BEGIN:VCALENDAR
VERSION:2.0
PRODID:-//AnthroCrime - Anthropology of Crime and Criminalisation - ECPv5.14.1//NONSGML v1.0//EN
CALSCALE:GREGORIAN
METHOD:PUBLISH
X-WR-CALNAME:AnthroCrime - Anthropology of Crime and Criminalisation
X-ORIGINAL-URL:https://www.anthrocrime.net
X-WR-CALDESC:Events for AnthroCrime - Anthropology of Crime and Criminalisation
REFRESH-INTERVAL;VALUE=DURATION:PT1H
X-Robots-Tag:noindex
X-PUBLISHED-TTL:PT1H
BEGIN:VTIMEZONE
TZID:Europe/Helsinki
BEGIN:DAYLIGHT
TZOFFSETFROM:+0200
TZOFFSETTO:+0300
TZNAME:EEST
DTSTART:20210328T010000
END:DAYLIGHT
BEGIN:STANDARD
TZOFFSETFROM:+0300
TZOFFSETTO:+0200
TZNAME:EET
DTSTART:20211031T010000
END:STANDARD
END:VTIMEZONE
BEGIN:VEVENT
DTSTART;TZID=Europe/Helsinki:20210507T153000
DTEND;TZID=Europe/Helsinki:20210507T173000
DTSTAMP:20260425T180340
CREATED:20210426T123351Z
LAST-MODIFIED:20210526T105422Z
UID:1043-1620401400-1620408600@www.anthrocrime.net
SUMMARY:Inaugural Seminar
DESCRIPTION:Towards an Anthropology of Crime and Criminalisation \nMay 07th\, 2021 \n03:30 PM CEST time (please check your current timezone here) \n\nThis is the inaugural online event of the EASA network on the anthropology of crime and criminalisation\, AnthroCrime.\nDuring this event\, we will briefly introduce the network and discuss the past\, present and future of the anthropology of crime and criminalisation. \n\nCo-Convener Welcome Note: \nMartijn Oosterbaan (Utrecht University)\, Davide Casciano (University of Bologna) and Lene Swetzer (Graduate Institute of Geneva). \nKeynote: \nHenrik Erdman Vigh\nProfessor\, Head of the PhD Programme in Anthropology\, Institut for Antropologi\, University of Copenhagen. PI of the ERC project: “Criminal Entanglements. A new ethnographic approach to transnational organised crime”. \nLucia Michelutti\nProfessor\, Head of Social Anthropology Section\, Anthropology Department\, University College London. PI of the ERC project: “Anthropologies of Extortion”. \nAvi Brisman\nAssociate Professor of Criminology in the School of Justice Studies at Eastern Kentucky University (Richmond\, KY\, USA)\, Adjunct Associate Professor in the School of Justice at Queensland University of Technology (Brisbane\, Queensland\, Australia)\, Conjoint Associate Professor at Newcastle Law School at the University of Newcastle (Newcastle\, New South Wales\, Australia). Editor-in-Chief of Critical Criminology: An International Journal. \nQ&A session. \nDownload and share the flyer image from here. \n\nThe seminar will be held online on May 07th\, 2021\, from 03:30 PM CEST (9.30 AM EDT) to accommodate speakers and an audience from different time zones. \nThe seminar will be held on the software platform Zoom.
URL:https://www.anthrocrime.net/event/inaugural-seminar/
CATEGORIES:Seminars
ORGANIZER;CN="Martijn%20Oosterbaan":MAILTO:m.oosterbaan@uu.nl
END:VEVENT
END:VCALENDAR