BEGIN:VCALENDAR
VERSION:2.0
PRODID:-//AnthroCrime - Anthropology of Crime and Criminalisation - ECPv5.14.1//NONSGML v1.0//EN
CALSCALE:GREGORIAN
METHOD:PUBLISH
X-WR-CALNAME:AnthroCrime - Anthropology of Crime and Criminalisation
X-ORIGINAL-URL:https://www.anthrocrime.net
X-WR-CALDESC:Events for AnthroCrime - Anthropology of Crime and Criminalisation
REFRESH-INTERVAL;VALUE=DURATION:PT1H
X-Robots-Tag:noindex
X-PUBLISHED-TTL:PT1H
BEGIN:VTIMEZONE
TZID:Europe/Paris
BEGIN:DAYLIGHT
TZOFFSETFROM:+0100
TZOFFSETTO:+0200
TZNAME:CEST
DTSTART:20220327T010000
END:DAYLIGHT
BEGIN:STANDARD
TZOFFSETFROM:+0200
TZOFFSETTO:+0100
TZNAME:CET
DTSTART:20221030T010000
END:STANDARD
END:VTIMEZONE
BEGIN:VEVENT
DTSTART;TZID=Europe/Paris:20220330T140000
DTEND;TZID=Europe/Paris:20220330T173000
DTSTAMP:20260424T183155
CREATED:20220319T173340Z
LAST-MODIFIED:20220321T133536Z
UID:1436-1648648800-1648661400@www.anthrocrime.net
SUMMARY:Criminal cultures and criminal figures in the Soviet Union and the post-Soviet space
DESCRIPTION:March 30\, 2022\, 2-5.30 PM CET (3-6.30 PM EET) \n\nGiven the ongoing war in Ukraine\, and the crisis unfolding in the region and beyond\, this workshop wants to be in the first place a platform for discussion and reflection on how our knowledge and experience could help understand current events and future challenges\, as citizens and as academics. \nLiterature on the Soviet Gulag has an established tradition in academia and beyond (Barnes 2011\, Hardy 2016\, Klevniuk 2004\, Solzhenitsyn 1973\, Shalamov 1978). Research on prison systems in communist successor countries has also developed steadily (Pallot 2005\, Piacentini & Katz 2017\, Piacentini & Slade 2015\, Moran\, Piacentini & Pallot 2012). In this framework of crime and punishment\, research on criminal (sub)cultures has mainly focused on informal hierarchies and governance inside the prison\, as well as on the influence of social\, cultural and moral norms of the criminal world on society ‘outside’ (Varese 1998\, Slade & Azbel 2020\, Kekoshvili & Slade 2020\, Zakharova 2017\, Curro 2017\, Ferry 2021\, Cowley\, Ryan & Dunn 2015). Bringing different disciplinary\, historical and geographical perspectives in conversation with one another\, this workshop aims to provide a space to share empirical findings\, epistemological and methodological approaches\, theoretical insights\, personal experiences and future plans in research on crime and criminals as cultural and social phenomena. Contributions from anthropology\, sociology\, history and criminology will touch upon a number of interrelated questions: What is ‘specifically Soviet’ – or ‘post-Soviet’ – in criminal cultures and criminal figures populating prisons and streets of Georgia\, Russia\, Kyrgyzstan\, Moldova\, or migration settings? How have these cultures and figures transformed at different stages of Soviet history\, with the transition to capitalism at the beginning of the 1990s\, and in the three decades after the fall of the Soviet Union? What have been political and legal authorities’ approaches towards the criminal world and its cultural manifestations in different historical\, socio-political and geographical settings? And how has the criminal world responded to these approaches? \nThe workshop will also focus on the connections between prison\, criminal cultures and society. Contributions will discuss the ways in which different people and groups – youth\, women\, middle classes\, intelligentsia\, the poor – perceive the criminal world; the moral and affective underpinnings of criminal cultures; the interaction between the criminal world’s social and cultural norms and ethnicity\, citizenship\, religion\, class\, political orientation. Issues of comparability\, terminology and research ethics will be addressed too. \n\nPROGRAM\n(please check your timezone by clicking on the time) \n2-2.10: Welcome and introduction: \nCostanza Curro (University of Helsinki\, Finland) and Davide Casciano (AnthroCrime EASA Network\, University of Bologna\, Italy) \n  \n2.10-3.10: Keynote by Federico Varese\, University of Oxford\, UK: \nHow war affects crime: Reflections on history and the present of the vory v zakone \n  \n3.10-4.20: Session 1 – Crime\, criminals and punishment inside and outside prison: Perspectives from sociology\, criminology and history \nGavin Slade\, Nazarbayev University\, Kazakhstan: \n\n	Prison subculture and prison governance: Towards a framework for comparative analysis\n\n  \nRustam Urinboyev\, Lund University\, Sweden: \n\n	Uzbek transnational prisoners in Russia and their interaction with traditional prison subculture (vorovskoi mir)\n\n  \nRhiannon Dowling\, CUNY\, US: \n\n	A fishing expedition in Sochi: The popular origins of a late Soviet anti-corruption campaign\n\n  \n4.20-5.30: Session 2 – Ethics and aesthetics of criminal cultures \nVakhtang Kekoshvili\, Georgian American University\, Georgia: \n\n	The thieves in law in Georgia: Resilience\, resistance or fallen myth?\n\n  \nMaroussia Ferry\, IHEID-CCDP\, Switzerland: \n\n	The “thief-in-law” as an ambivalent moral horizon for Georgian transnational burglars\n\n  \nSvetlana Stephenson\, London Metropolitan University\, UK: \n\n	The Russian Gang and the Virtue Ethics\n\n  \nDiscussants: \nCostanza Curro\, Judith Pallot (University of Helsinki) \n\n 
URL:https://www.anthrocrime.net/event/criminal-cultures-and-criminal-figures-in-the-soviet-union-and-the-post-soviet-space/
CATEGORIES:Workshops
ATTACH;FMTTYPE=image/jpeg:https://www.anthrocrime.net/wp-content/uploads/2022/03/picture_mafia_russia.jpg
ORGANIZER;CN="Costanza%20Curro":MAILTO:costanza.curro.10@ucl.ac.uk
END:VEVENT
END:VCALENDAR