BEGIN:VCALENDAR
VERSION:2.0
PRODID:-//AnthroCrime - Anthropology of Crime and Criminalisation - ECPv5.14.1//NONSGML v1.0//EN
CALSCALE:GREGORIAN
METHOD:PUBLISH
X-WR-CALNAME:AnthroCrime - Anthropology of Crime and Criminalisation
X-ORIGINAL-URL:https://www.anthrocrime.net
X-WR-CALDESC:Events for AnthroCrime - Anthropology of Crime and Criminalisation
REFRESH-INTERVAL;VALUE=DURATION:PT1H
X-Robots-Tag:noindex
X-PUBLISHED-TTL:PT1H
BEGIN:VTIMEZONE
TZID:Europe/Paris
BEGIN:DAYLIGHT
TZOFFSETFROM:+0100
TZOFFSETTO:+0200
TZNAME:CEST
DTSTART:20210328T010000
END:DAYLIGHT
BEGIN:STANDARD
TZOFFSETFROM:+0200
TZOFFSETTO:+0100
TZNAME:CET
DTSTART:20211031T010000
END:STANDARD
END:VTIMEZONE
BEGIN:VEVENT
DTSTART;TZID=Europe/Paris:20211115T143000
DTEND;TZID=Europe/Paris:20211115T153000
DTSTAMP:20260424T183025
CREATED:20211018T135424Z
LAST-MODIFIED:20211108T190006Z
UID:1237-1636986600-1636990200@www.anthrocrime.net
SUMMARY:Online book presentation by Didier Fassin: Death of a Traveller
DESCRIPTION:Online book presentation by the author \nDidier Fassin\, Institute for Advanced Study\, Princeton\, and École des Hautes Études en Sciences Sociales\, Paris \nDeath of a Traveller: An Experiment in Investigating and Writing \nNovember 15th\, 2021 \n02:30 PM CET time (please check your current timezone here) \n\nBook edited by Polity Press. \nCo-Conveners: \nMartijn Oosterbaan (Utrecht University)\, Davide Casciano (University of Bologna) and Lene Swetzer (Graduate Institute of Geneva). \n\nThe book presentation will be held online on November 15th\, 2021\, from 02:30 PM CET (8.30 AM EST). \nThe event will be held on the software platform Zoom\, online. No recording will be stored after the event. \n\n 
URL:https://www.anthrocrime.net/event/presentation-didier-fassin-death-of-a-traveler/
CATEGORIES:Book presentations
ATTACH;FMTTYPE=image/jpeg:https://www.anthrocrime.net/wp-content/uploads/2021/10/death_traveller-1.jpg
END:VEVENT
END:VCALENDAR